BEGIN:VCALENDAR
VERSION:2.0
PRODID:-//eventon.com NONSGML v1.0//EN
CALSCALE:GREGORIAN
METHOD:PUBLISH
BEGIN:VEVENT
UID:69e58a6277600
DTSTAMP:20260420T020730Z
DTSTART:20200221
DTEND:20200222
LOCATION:Richmond Richmond\,  VIC
SUMMARY:A4 Art Australia 2020: Contemporary Art Society of Victoria - Richmond\,  VIC
DESCRIPTION:This exhibition will showcase A4-sized artworks by both establi
 shed and emerging artists and offers all participating artists the opportun
 ity gain exposure for their art at low entry cost. LEARN MORE\nhttps://www.
 flyingarts.org.au/events/a4-art-australia-2020-contemporary-art-society-of-
 victoria-richmond-vic/
URL:https://www.flyingarts.org.au/events/a4-art-australia-2020-contemporary-art-society-of-victoria-richmond-vic/
END:VEVENT
END:VCALENDAR