BEGIN:VCALENDAR
VERSION:2.0
PRODID:-//eventon.com NONSGML v1.0//EN
CALSCALE:GREGORIAN
METHOD:PUBLISH
BEGIN:VEVENT
UID:69ed47afa731d
DTSTAMP:20260425T230103Z
DTSTART:20191118
DTEND:20191119
LOCATION:Moreton Bay
SUMMARY:Network Support Officer: Moreton Bay Regional Council - Moreton Bay\,  QLD
DESCRIPTION:Your responsibilities will include supporting the operation and
  promotion of Council’s museum and gallery network through working with i
 nternal teams\,  stakeholders and suppliers to create exceptional visitor e
 xperiences.  You will produce promotional material and e-newsletters\,  ma
 intain the MBRC website gallery and museum related content\,  distribute e-
 invitations for network events\,  and[..]\nhttps://www.flyingarts.org.au/ev
 ents/network-support-officer-moreton-bay/
URL:https://www.flyingarts.org.au/events/network-support-officer-moreton-bay/
END:VEVENT
END:VCALENDAR