BEGIN:VCALENDAR
VERSION:2.0
PRODID:-//eventon.com NONSGML v1.0//EN
CALSCALE:GREGORIAN
METHOD:PUBLISH
BEGIN:VEVENT
UID:69e6da794a6bb
DTSTAMP:20260421T020129Z
DTSTART:20190930
DTEND:20191001
LOCATION:Brisbane
SUMMARY:Access Arts Achievement Award: CPL - Brisbane\,  QLD
DESCRIPTION:Access Arts has issued a callout for all Queensland artists who
  experience disability to push the envelope when applying for this year’s
  Access Arts Achievement Award. The annual Award gives artists a huge caree
 r boost with $10\, 000 to put towards a project\,  program\,  or performanc
 e. LEARN MORE\nhttps://www.flyingarts.org.au/events/access-arts-achievement
 -award-cpl-brisbane-qld/
URL:https://www.flyingarts.org.au/events/access-arts-achievement-award-cpl-brisbane-qld/
END:VEVENT
END:VCALENDAR