BEGIN:VCALENDAR
VERSION:2.0
PRODID:-//eventon.com NONSGML v1.0//EN
CALSCALE:GREGORIAN
METHOD:PUBLISH
BEGIN:VEVENT
UID:69e679856262b
DTSTAMP:20260420T190749Z
DTSTART:20190807
DTEND:20190808
LOCATION:Brisbane
SUMMARY:Program Assistant (Fabrication Lab): State Library of QLD - Brisbane\,  QLD
DESCRIPTION:State Library of Queensland is looking for a dynamic maker to h
 elp us deliver the Fabrication Lab to the Queensland community. You will ha
 ve a practical understand of digital fabrication technology\,  a love of wo
 rking and supporting people to meet their making needs and a passionate cur
 iosity of what&#8217;s possible[..]\nhttps://www.flyingarts.org.au/events/p
 rogram-assistant-fabrication-lab-state-library-of-qld-brisbane-qld/
URL:https://www.flyingarts.org.au/events/program-assistant-fabrication-lab-state-library-of-qld-brisbane-qld/
END:VEVENT
END:VCALENDAR