BEGIN:VCALENDAR
VERSION:2.0
PRODID:-//eventon.com NONSGML v1.0//EN
CALSCALE:GREGORIAN
METHOD:PUBLISH
BEGIN:VEVENT
UID:69e75a5c049c7
DTSTAMP:20260421T110708Z
DTSTART:20190802
DTEND:20190803
LOCATION:Melbourne Melbourne\,  VIC
SUMMARY:CEO/ Museum Director: Jewish Museum of Australia - Melbourne\,  VIC
DESCRIPTION:The Jewish Museum of Australia seeks a dynamic\,  visionary and
  experienced leader to be its next Director &amp; CEO. LEARN MORE\nhttps://
 www.flyingarts.org.au/events/ceo-museum-director-jewish-museum-of-australia
 -melbourne-vic/
URL:https://www.flyingarts.org.au/events/ceo-museum-director-jewish-museum-of-australia-melbourne-vic/
END:VEVENT
END:VCALENDAR