BEGIN:VCALENDAR
VERSION:2.0
PRODID:-//eventon.com NONSGML v1.0//EN
CALSCALE:GREGORIAN
METHOD:PUBLISH
BEGIN:VEVENT
UID:69ec32de9ff47
DTSTAMP:20260425T031958Z
DTSTART:20190729
DTEND:20190730
LOCATION:Sydney Sydney\,  NSW
SUMMARY:Programs and Learning Assistant: Biennale of Sydney - Sydney\,  NSW
DESCRIPTION:The successful applicant will play an important role within a s
 mall team responsible for liaising with schools\,  educators\,  venue partn
 ers\,  staff\,  residency providers\,  artists and participants to ensure t
 he smooth delivery of public and learning programs.  LEARN MORE\nhttps://w
 ww.flyingarts.org.au/events/programs-and-learning-assistant-biennale-of-syd
 ney-sydney-nsw/
URL:https://www.flyingarts.org.au/events/programs-and-learning-assistant-biennale-of-sydney-sydney-nsw/
END:VEVENT
END:VCALENDAR