BEGIN:VCALENDAR
VERSION:2.0
PRODID:-//eventon.com NONSGML v1.0//EN
CALSCALE:GREGORIAN
METHOD:PUBLISH
BEGIN:VEVENT
UID:69eb1ff0eb40e
DTSTAMP:20260424T074656Z
DTSTART:20190805
DTEND:20190806
LOCATION:Orange Orange\,  NSW
SUMMARY:Curator: Orange Regional Gallery - Orange\,  NSW
DESCRIPTION:Orange Regional Museum is seeking an experienced and collaborat
 ive curator to undertake the research and facilitation of a long-term exhib
 ition exploring the history of Orange and district.  LEARN MORE\nhttps://w
 ww.flyingarts.org.au/events/curator-orange-regional-gallery-orange-nsw/
URL:https://www.flyingarts.org.au/events/curator-orange-regional-gallery-orange-nsw/
END:VEVENT
END:VCALENDAR