BEGIN:VCALENDAR
VERSION:2.0
PRODID:-//eventon.com NONSGML v1.0//EN
CALSCALE:GREGORIAN
METHOD:PUBLISH
BEGIN:VEVENT
UID:69ed5f4ec162d
DTSTAMP:20260426T004150Z
DTSTART:20190830
DTEND:20190831
LOCATION:
SUMMARY:Waste to Art: Fraser Coast Regional Council
DESCRIPTION:This exciting competition and exhibition gives aspiring and pro
 fessional artists the chance to explore and share their waste reduction mes
 sages while showcasing their artistic ability.  LEARN MORE\nhttps://www.fl
 yingarts.org.au/events/waste-to-art-fraser-coast-regional-council/
URL:https://www.flyingarts.org.au/events/waste-to-art-fraser-coast-regional-council/
END:VEVENT
END:VCALENDAR