BEGIN:VCALENDAR
VERSION:2.0
PRODID:-//eventon.com NONSGML v1.0//EN
CALSCALE:GREGORIAN
METHOD:PUBLISH
BEGIN:VEVENT
UID:69e7592f340bf
DTSTAMP:20260421T110207Z
DTSTART:20190809
DTEND:20190810
LOCATION:Goondiwindi Goondiwindi\,  QLD
SUMMARY:EOI: Lanescape - Goondiwindi\,  QLD
DESCRIPTION:Lanescape Goondiwindi Inc invites you to submit an EOI for our 
 latest round of creative projects. Lanescape is a Goondiwindi Queensland b
 ased group formed in 2017 with the mission to inspire community connectivit
 y to arts and culture through vibrant evolving spaces and places in our bea
 utiful regional location. LEARN MORE\nhttps://www.flyingarts.org.au/events/
 eoi-lanescape-goondiwindi-qld/
URL:https://www.flyingarts.org.au/events/eoi-lanescape-goondiwindi-qld/
END:VEVENT
END:VCALENDAR