BEGIN:VCALENDAR
VERSION:2.0
PRODID:-//eventon.com NONSGML v1.0//EN
CALSCALE:GREGORIAN
METHOD:PUBLISH
BEGIN:VEVENT
UID:69e755282ed4d
DTSTAMP:20260421T104456Z
DTSTART:20191115
DTEND:20191116
LOCATION:Perth Perth\,  Western Australia
SUMMARY:Tom Malone Prize: Art Gallery of Western Australia - Perth\,  WA
DESCRIPTION:The Tom Malone Prize was initiated in 2003 by Governor of the
  Art Gallery of Western Australia Foundation\,  Elizabeth Malone and celebr
 ated its 15th anniversary in 2017. The Prize continues through the support 
 of Foundation Benefactor\,  Sheryl Grimwood\,  and has also been increased 
 from $12\, 000 to $15\, 000. LEARN MORE\nhttps://www.flyingarts.org.au/even
 ts/tom-malone-prize-art-gallery-of-western-australia-perth-wa/
URL:https://www.flyingarts.org.au/events/tom-malone-prize-art-gallery-of-western-australia-perth-wa/
END:VEVENT
END:VCALENDAR