BEGIN:VCALENDAR
VERSION:2.0
PRODID:-//eventon.com NONSGML v1.0//EN
CALSCALE:GREGORIAN
METHOD:PUBLISH
BEGIN:VEVENT
UID:69e5929954531
DTSTAMP:20260420T024233Z
DTSTART:20190830
DTEND:20190831
LOCATION:Melbourne Melbourne\,  VIC
SUMMARY:ANL Maritime Art Awards: The Mission to Seafarers - Melbourne\,  VIC
DESCRIPTION:The MtSV Annual Maritime Art Awards &amp; Exhibition is an inte
 rnational competition hosted at the Mission to Seafarers in Docklands\,  Me
 lbourne.  LEARN MORE\nhttps://www.flyingarts.org.au/events/anl-maritime-ar
 t-awards-the-mission-to-seafarers-melbourne-vic/
URL:https://www.flyingarts.org.au/events/anl-maritime-art-awards-the-mission-to-seafarers-melbourne-vic/
END:VEVENT
END:VCALENDAR