BEGIN:VCALENDAR
VERSION:2.0
PRODID:-//eventon.com NONSGML v1.0//EN
CALSCALE:GREGORIAN
METHOD:PUBLISH
BEGIN:VEVENT
UID:69e8a01882761
DTSTAMP:20260422T101656Z
DTSTART:20190712T000000Z
DTEND:20190712T000000Z
LOCATION:Gold Coast
SUMMARY:Education Producer: Home of the Arts - Gold Coast\,  QLD
DESCRIPTION:To co-ordinate and promote and supervise the roll out of the Ed
 ucation Program. LEARN MORE\nhttps://www.flyingarts.org.au/events/education
 -producer-home-of-the-arts-gold-coast-qld/
URL:https://www.flyingarts.org.au/events/education-producer-home-of-the-arts-gold-coast-qld/
END:VEVENT
END:VCALENDAR