BEGIN:VCALENDAR
VERSION:2.0
PRODID:-//eventon.com NONSGML v1.0//EN
CALSCALE:GREGORIAN
METHOD:PUBLISH
BEGIN:VEVENT
UID:69ed41679f2fa
DTSTAMP:20260425T223415Z
DTSTART:20190722
DTEND:20190723
LOCATION:Japan Japan
SUMMARY:Residency Program: Australia House - Urada Village\,  Japan
DESCRIPTION:Australia House was opened at the 5th Echigo-Tsumari Art Trienn
 ale in 2012. It consists of accommodation and gallery spaces to enable arti
 sts in residence to stay\,  work\,  and exhibit as well as to facilitate co
 mmunity activities and exchanges between Australia and Japan. This year\,  
 not only visual artists but also[..]\nhttps://www.flyingarts.org.au/events/
 residency-program-australia-house-urada-village-japan/
URL:https://www.flyingarts.org.au/events/residency-program-australia-house-urada-village-japan/
END:VEVENT
END:VCALENDAR