BEGIN:VCALENDAR
VERSION:2.0
PRODID:-//eventon.com NONSGML v1.0//EN
CALSCALE:GREGORIAN
METHOD:PUBLISH
BEGIN:VEVENT
UID:69eb3802dfec7
DTSTAMP:20260424T092938Z
DTSTART:20191031
DTEND:20191101
LOCATION:Hill End\,  NSW Hill End\,  NSW
SUMMARY:Residency: Hill End - Hill End\,  NSW
DESCRIPTION:The Hill End Artists in Residence Program began as a partnershi
 p between Bathurst Regional Council and curator Gavin Wilson in 1995. Since
  then the program has grown into one of Australia&#8217;s most sought after
  residencies. The Residency Program allows contemporary Australian and inte
 rnational artists the chance to experience and respond[..]\nhttps://www.fly
 ingarts.org.au/events/residency-hill-end-hill-end-nsw/
URL:https://www.flyingarts.org.au/events/residency-hill-end-hill-end-nsw/
END:VEVENT
END:VCALENDAR