BEGIN:VCALENDAR
VERSION:2.0
PRODID:-//eventon.com NONSGML v1.0//EN
CALSCALE:GREGORIAN
METHOD:PUBLISH
BEGIN:VEVENT
UID:69e52c8d065e0
DTSTAMP:20260419T192709Z
DTSTART:20190930
DTEND:20191001
LOCATION:Canberra Canberra\,  ACT
SUMMARY:Residency: Megalo Print Studio & Gallery - Canberra\,  ACT
DESCRIPTION:Our Artist-in-Residence program is a supported residency opport
 unity open to Australian and international artists at all stages of their c
 areers.  In 2019 there will be five places for Australian artists and one 
 international place. The selected artists will receive a stipend\,  accommo
 dation (international and interstate based artists) and studio access[..]\n
 https://www.flyingarts.org.au/events/residency-megalo-print-studio-gallery-
 canberra-act/
URL:https://www.flyingarts.org.au/events/residency-megalo-print-studio-gallery-canberra-act/
END:VEVENT
END:VCALENDAR