BEGIN:VCALENDAR
VERSION:2.0
PRODID:-//eventon.com NONSGML v1.0//EN
CALSCALE:GREGORIAN
METHOD:PUBLISH
BEGIN:VEVENT
UID:69eb2c5933797
DTSTAMP:20260424T083953Z
DTSTART:20190711
DTEND:20190712
LOCATION:Mackay
SUMMARY:Assistant Curator: Artspace Mackay - Mackay\,  QLD
DESCRIPTION:The Assistant Curator will assist the Exhibitions Curator in th
 e implementation of the Exhibitions Program.  As a member of the professio
 nal team at Artspace Mackay\,  the Assistant Curator will also provide tech
 nical services to install art exhibitions and provide support to other prog
 rams within the scope of gallery operations. LEARN[..]\nhttps://www.flyinga
 rts.org.au/events/assistant-curator-artspace-mackay-mackay-qld/
URL:https://www.flyingarts.org.au/events/assistant-curator-artspace-mackay-mackay-qld/
END:VEVENT
END:VCALENDAR