BEGIN:VCALENDAR
VERSION:2.0
PRODID:-//eventon.com NONSGML v1.0//EN
CALSCALE:GREGORIAN
METHOD:PUBLISH
BEGIN:VEVENT
UID:69ed4d0351774
DTSTAMP:20260425T232347Z
DTSTART:20190618
DTEND:20190619
LOCATION:Brisbane
SUMMARY:Manager\,  Collection Management Systems: Queensland Museum - Brisbane\,  QLD
DESCRIPTION:We are seeking an enthusiastic team member to lead the future d
 evelopment and maintenance of an efficient and effective collection managem
 ent system (Vernon) for managing the State Collection assets held in care b
 y the Queensland Museum. The role will include the creation of policies and
  procedures associated with implementation of[..]\nhttps://www.flyingarts.o
 rg.au/events/manager-collection-management-systems-queensland-museum-brisba
 ne-qld/
URL:https://www.flyingarts.org.au/events/manager-collection-management-systems-queensland-museum-brisbane-qld/
END:VEVENT
END:VCALENDAR