BEGIN:VCALENDAR
VERSION:2.0
PRODID:-//eventon.com NONSGML v1.0//EN
CALSCALE:GREGORIAN
METHOD:PUBLISH
BEGIN:VEVENT
UID:69eb6205d8ec1
DTSTAMP:20260424T122853Z
DTSTART:20190614
DTEND:20190615
LOCATION:Brisbane
SUMMARY:Arts Officer: Access Community Services Limited - Brisbane\,  QLD
DESCRIPTION:As the key local representative for Access\,  BEMAC and the Reg
 ional Arts Services Network\,  the Arts Officer (Logan) will play a pivotal
  role in providing a coordinated approach to arts delivery across Logan\,  
 liaising with the Arts Officer (Ipswich) and other BEMAC and ACSL staff. LE
 ARN MORE\nhttps://www.flyingarts.org.au/events/arts-officer-access-communit
 y-services-limited-brisbane-qld/
URL:https://www.flyingarts.org.au/events/arts-officer-access-community-services-limited-brisbane-qld/
END:VEVENT
END:VCALENDAR