BEGIN:VCALENDAR
VERSION:2.0
PRODID:-//eventon.com NONSGML v1.0//EN
CALSCALE:GREGORIAN
METHOD:PUBLISH
BEGIN:VEVENT
UID:69ecf959a8d4f
DTSTAMP:20260425T172649Z
DTSTART:20190712
DTEND:20190713
LOCATION:
SUMMARY:National Folk Fellowship: National Library of Australia - Canberra\,  ACT
DESCRIPTION:The annual National Folk Fellowship is offered jointly by the N
 ational Library of Australia and the National Folk Festival. The National L
 ibrary holds the most significant folklore and related collections in Austr
 alia. The Fellowship offers a unique opportunity for the recipient to disco
 ver and explore original collected material at the[..]\nhttps://www.flyinga
 rts.org.au/events/national-folk-fellowship-national-library-of-australia-ca
 nberra-act/
URL:https://www.flyingarts.org.au/events/national-folk-fellowship-national-library-of-australia-canberra-act/
END:VEVENT
END:VCALENDAR