BEGIN:VCALENDAR
VERSION:2.0
PRODID:-//eventon.com NONSGML v1.0//EN
CALSCALE:GREGORIAN
METHOD:PUBLISH
BEGIN:VEVENT
UID:69e8a66c29060
DTSTAMP:20260422T104356Z
DTSTART:20190719
DTEND:20190720
LOCATION:Canberra Canberra\,  ACT
SUMMARY:2020 Creative Arts Fellowships for Artworks and Writing: National Library of Australia - Canberra\,  ACT
DESCRIPTION:Creative Arts Fellowships offer a $10\, 000 grant to support wr
 iters and artists to spend four weeks in the Library developing an artistic
  concept\,  artwork or body of work inspired or informed by the collection
 s.  LEARN MORE\nhttps://www.flyingarts.org.au/events/2020-creative-arts-fe
 llowships-for-artworks-and-writing-national-library-of-australia-canberra-a
 ct/
URL:https://www.flyingarts.org.au/events/2020-creative-arts-fellowships-for-artworks-and-writing-national-library-of-australia-canberra-act/
END:VEVENT
END:VCALENDAR