BEGIN:VCALENDAR
VERSION:2.0
PRODID:-//eventon.com NONSGML v1.0//EN
CALSCALE:GREGORIAN
METHOD:PUBLISH
BEGIN:VEVENT
UID:69ed475d211de
DTSTAMP:20260425T225941Z
DTSTART:20190609
DTEND:20190610
LOCATION:Brisbane
SUMMARY:Manager: Outer Space Galllery - Brisbane\,  QLD
DESCRIPTION:Outer Space is seeking an organised and driven part-time manage
 r to oversee the operations of its galleries\,  studios and community spac
 e in West End. The manager will be responsible for administration and logi
 stics to ensure the smooth running of daily operations\,  as well as strat
 egic planning for the future of this small community-run[..]\nhttps://www.f
 lyingarts.org.au/events/manager-outer-space-galllery-brisbane-qld/
URL:https://www.flyingarts.org.au/events/manager-outer-space-galllery-brisbane-qld/
END:VEVENT
END:VCALENDAR