BEGIN:VCALENDAR
VERSION:2.0
PRODID:-//eventon.com NONSGML v1.0//EN
CALSCALE:GREGORIAN
METHOD:PUBLISH
BEGIN:VEVENT
UID:69ec222fbaa45
DTSTAMP:20260425T020847Z
DTSTART:20190516
DTEND:20190517
LOCATION:
SUMMARY:Arts Administration Officer: Townsville City Council - Townsville\,  QLD
DESCRIPTION:The Arts Administration Officer supports the day to day operati
 ons of the Galleries. The role entails delivering functions related to Gall
 eries operations including gallery customer experience of exhibitions\,  ga
 llery point of sale and other financial support\,  liaising with tradespeop
 le\,  gallery reception\,  meeting rooms and supporting the gallery team to
  deliver\, [..]\nhttps://www.flyingarts.org.au/events/arts-administration-o
 fficer-townsville-city-council-townsville-qld/
URL:https://www.flyingarts.org.au/events/arts-administration-officer-townsville-city-council-townsville-qld/
END:VEVENT
END:VCALENDAR