BEGIN:VCALENDAR
VERSION:2.0
PRODID:-//eventon.com NONSGML v1.0//EN
CALSCALE:GREGORIAN
METHOD:PUBLISH
BEGIN:VEVENT
UID:69eb4e62d58da
DTSTAMP:20260424T110506Z
DTSTART:20190531
DTEND:20190601
LOCATION:Queensland Queensland
SUMMARY:Gambling Community Benefit Fund: DJAG\,  QLD Government
DESCRIPTION:Not-for-profit groups operating in Queensland can apply for gra
 nts from $500 to $35\, 000 through the Gambling Community Benefit Fund (GCB
 F). This fund is Queensland’s largest one-off community grants program\, 
  distributing approximately $55 million per year. LEARN MORE\nhttps://www.f
 lyingarts.org.au/events/gambling-community-benefit-fund-djag-qld-government
 /
URL:https://www.flyingarts.org.au/events/gambling-community-benefit-fund-djag-qld-government/
END:VEVENT
END:VCALENDAR