BEGIN:VCALENDAR
VERSION:2.0
PRODID:-//eventon.com NONSGML v1.0//EN
CALSCALE:GREGORIAN
METHOD:PUBLISH
BEGIN:VEVENT
UID:69ebd0ef88b6c
DTSTAMP:20260424T202207Z
DTSTART:20200519
DTEND:20200520
LOCATION:Australia Australia
SUMMARY:International Arts Strategy Outcomes Fund Round 12: Australia Council for the Arts
DESCRIPTION:The International Arts Strategy Outcomes Fund supports opportun
 ities that directly arise from strategic initiatives delivered by the Austr
 alia Council in the target international regions under the International 
 Arts Strategy: Europe\,  North America\,  North Asia\,  South and South Eas
 t Asia. The fund prioritises outcomes that directly involve and benefit Aus
 tralian artists\,  for example[..]\nhttps://www.flyingarts.org.au/events/in
 ternational-arts-strategy-outcomes-fund-round-12-australia-council-for-the-
 arts/
URL:https://www.flyingarts.org.au/events/international-arts-strategy-outcomes-fund-round-12-australia-council-for-the-arts/
END:VEVENT
END:VCALENDAR