BEGIN:VCALENDAR
VERSION:2.0
PRODID:-//eventon.com NONSGML v1.0//EN
CALSCALE:GREGORIAN
METHOD:PUBLISH
BEGIN:VEVENT
UID:69e8921bdf073
DTSTAMP:20260422T091715Z
DTSTART:20190526
DTEND:20190527
LOCATION:Fitzroy\,  VIC Fitzroy\,  Victoria
SUMMARY:Small Works Art Prize: Brunswick Street Gallery - Fitzroy\,  VIC
DESCRIPTION:Brunswick Street Gallery’s annual Small Works Art Prize is an
  open call art prize featuring works no larger than 35x35x35cm. An open cal
 l art prize with all levels of experience accepted. All themes\,  styles\, 
  techniques\,  and mediums accepted and exhibited.  LEARN MORE\nhttps://ww
 w.flyingarts.org.au/events/small-works-art-prize-brunswick-street-gallery-f
 itzroy-vic/
URL:https://www.flyingarts.org.au/events/small-works-art-prize-brunswick-street-gallery-fitzroy-vic/
END:VEVENT
END:VCALENDAR