BEGIN:VCALENDAR
VERSION:2.0
PRODID:-//eventon.com NONSGML v1.0//EN
CALSCALE:GREGORIAN
METHOD:PUBLISH
BEGIN:VEVENT
UID:69e745da6ef8c
DTSTAMP:20260421T093938Z
DTSTART:20190608T090000Z
DTEND:20190608T110000Z
LOCATION:Yeppoon Town Hall 25 Normanby Street
SUMMARY:RAF Community Workshop - Yeppoon
DESCRIPTION:The Regional Arts Fund (RAF) is an Australian Government progra
 m designed to benefit regional and remote arts practitioners\,  arts worker
 s\,  audiences and communities. The fund is provided through Regional Arts 
 Australia and is administered in Queensland by Flying Arts Alliance. Join F
 lying Arts Alliance to learn how to access and[..]\nhttps://www.flyingarts.
 org.au/events/raf-community-workshop-yeppoon/
URL:https://www.flyingarts.org.au/events/raf-community-workshop-yeppoon/
END:VEVENT
END:VCALENDAR