BEGIN:VCALENDAR
VERSION:2.0
PRODID:-//eventon.com NONSGML v1.0//EN
CALSCALE:GREGORIAN
METHOD:PUBLISH
BEGIN:VEVENT
UID:69e706d112969
DTSTAMP:20260421T051041Z
DTSTART:20190430
DTEND:20190501
LOCATION:Queensland Queensland
SUMMARY:QCF Photo Challenge: Queensland Community Foundation
DESCRIPTION:Queensland Community Foundation invites all Queensland based ph
 otographers\,  instagrammers\,  philanthropists and charities to enter the 
 2019 QCF Philanthropy in Focus Photo Challenge\,  part of Philanthropy Week
  in June. LEARN MORE\nhttps://www.flyingarts.org.au/events/qcf-photo-challe
 nge-queensland-community-foundation/
URL:https://www.flyingarts.org.au/events/qcf-photo-challenge-queensland-community-foundation/
END:VEVENT
END:VCALENDAR