BEGIN:VCALENDAR
VERSION:2.0
PRODID:-//eventon.com NONSGML v1.0//EN
CALSCALE:GREGORIAN
METHOD:PUBLISH
BEGIN:VEVENT
UID:69eb2c20cb645
DTSTAMP:20260424T083856Z
DTSTART:20190414
DTEND:20190415
LOCATION:Bundaberg
SUMMARY:Marketing Business Partner- Arts & Culture: Bundaberg Regional Council - Bundaberg\,  QLD
DESCRIPTION:Position Purpose: To establish and oversee a marketing strategy
  and its implementation in order to drive sales\,  bookings and attendance 
 at Arts &amp; Cultural Services’ venues and programs. LEARN MORE\nhttps:/
 /www.flyingarts.org.au/events/marketing-business-partner-arts-culture-bunda
 berg-regional-council-bundaberg-qld/
URL:https://www.flyingarts.org.au/events/marketing-business-partner-arts-culture-bundaberg-regional-council-bundaberg-qld/
END:VEVENT
END:VCALENDAR