BEGIN:VCALENDAR
VERSION:2.0
PRODID:-//eventon.com NONSGML v1.0//EN
CALSCALE:GREGORIAN
METHOD:PUBLISH
BEGIN:VEVENT
UID:69ec95585b929
DTSTAMP:20260425T102008Z
DTSTART:20190412T000000Z
DTEND:20190412T000000Z
LOCATION:Redlands Redlands\,  QLD
SUMMARY:Program Officer: Redland Art Gallery - Redlands\,  QLD
DESCRIPTION:The Program Officer provides specialist arts support to the Art
  Gallery Team. This includes the coordination of gallery projects and exhib
 itions\,  use of council&#8217;s financial systems and specialist handling 
 of artwork. LEARN MORE\nhttps://www.flyingarts.org.au/events/program-office
 r-redland-art-gallery-redlands-qld/
URL:https://www.flyingarts.org.au/events/program-officer-redland-art-gallery-redlands-qld/
END:VEVENT
END:VCALENDAR