BEGIN:VCALENDAR
VERSION:2.0
PRODID:-//eventon.com NONSGML v1.0//EN
CALSCALE:GREGORIAN
METHOD:PUBLISH
BEGIN:VEVENT
UID:69e64e5ca6d1f
DTSTAMP:20260420T160340Z
DTSTART:20190819
DTEND:20190820
LOCATION:Sydney Sydney\,  NSW
SUMMARY:CREATE Grants: Copyright Agency - Sydney\,  NSW
DESCRIPTION:CREATE Grants offer opportunities for mid-career and establishe
 d creative writers and visual artists to create and develop new work. The g
 rants provide a living allowance to a writer or a visual artist to write or
  create a new work for publication or exhibition. CREATE Grants do not su
 pport academics with scholarly or[..]\nhttps://www.flyingarts.org.au/events
 /create-grants-copyright-agency-sydney-nsw/
URL:https://www.flyingarts.org.au/events/create-grants-copyright-agency-sydney-nsw/
END:VEVENT
END:VCALENDAR