BEGIN:VCALENDAR
VERSION:2.0
PRODID:-//eventon.com NONSGML v1.0//EN
CALSCALE:GREGORIAN
METHOD:PUBLISH
BEGIN:VEVENT
UID:69e8c0ae32d4e
DTSTAMP:20260422T123558Z
DTSTART:20190513
DTEND:20190514
LOCATION:Sydney Sydney\,  NSW
SUMMARY:Cultural Fund Grants for Organisations Round 1: Copyright Agency - Sydney\,  NSW
DESCRIPTION:The Cultural Fund provides support to organisations for project
 s that deliver opportunities for authors\,  journalists\,  artists and key 
 industry stakeholders in the writing\,  publishing\,  education\,  and visu
 al arts sectors. LEARN MORE\nhttps://www.flyingarts.org.au/events/cultural-
 fund-grants-for-organisations-copyright-agency-sydney-nsw/
URL:https://www.flyingarts.org.au/events/cultural-fund-grants-for-organisations-copyright-agency-sydney-nsw/
END:VEVENT
END:VCALENDAR