BEGIN:VCALENDAR
VERSION:2.0
PRODID:-//eventon.com NONSGML v1.0//EN
CALSCALE:GREGORIAN
METHOD:PUBLISH
BEGIN:VEVENT
UID:69eca4fe9b296
DTSTAMP:20260425T112654Z
DTSTART:20190425T000000Z
DTEND:20190425T000000Z
LOCATION:Queensland Queensland
SUMMARY:Queensland-Smithsonian Fellowships Program: QLD Government - Brisbane\,  QLD
DESCRIPTION:Funds fellows from Queensland&#8217;s research\,  education and
  cultural sectors to visit and complete a project at the Smithsonian Instit
 ution. LEARN MORE\nhttps://www.flyingarts.org.au/events/queensland-smithson
 ian-fellowships-program-qld-government-brisbane-qld/
URL:https://www.flyingarts.org.au/events/queensland-smithsonian-fellowships-program-qld-government-brisbane-qld/
END:VEVENT
END:VCALENDAR