BEGIN:VCALENDAR
VERSION:2.0
PRODID:-//eventon.com NONSGML v1.0//EN
CALSCALE:GREGORIAN
METHOD:PUBLISH
BEGIN:VEVENT
UID:69e4eb2e62aa3
DTSTAMP:20260419T144814Z
DTSTART:20190925
DTEND:20190926
LOCATION:Australia Australia
SUMMARY:Tackling Tough Times Together: Foundation for Rural and Regional Renewal - Australia (Copy)
DESCRIPTION:The Tackling Tough Times Together grant program helps communiti
 es access the resources they need to support one another through the ongoi
 ng effects of the drought. Tackling Tough Times Together is a rolling grant
 s program\,  which means that applications will be accepted at any time. Pl
 ease see the table below for the[..]\nhttps://www.flyingarts.org.au/events/
 tackling-tough-times-together-foundation-for-rural-and-regional-renewal-aus
 tralia-copy/
URL:https://www.flyingarts.org.au/events/tackling-tough-times-together-foundation-for-rural-and-regional-renewal-australia-copy/
END:VEVENT
END:VCALENDAR