BEGIN:VCALENDAR
VERSION:2.0
PRODID:-//eventon.com NONSGML v1.0//EN
CALSCALE:GREGORIAN
METHOD:PUBLISH
BEGIN:VEVENT
UID:69e568d50e120
DTSTAMP:20260419T234421Z
DTSTART:20190405
DTEND:20190406
LOCATION:
SUMMARY:Program and Communications Coordinator: Verge Gallery - Sydney\,  NSW
DESCRIPTION:The Program and Communications Coordinator is a newly created p
 osition with a principal responsibility of assisting with the development a
 nd delivering of the critical and ambitious artistic program at Verge Galle
 ry. The position requires an individual who is confident and capable of del
 ivering a communication strategy and assisting with fundraising[..]\nhttps:
 //www.flyingarts.org.au/events/program-and-communications-coordinator-verge
 -gallery-sydney-nsw/
URL:https://www.flyingarts.org.au/events/program-and-communications-coordinator-verge-gallery-sydney-nsw/
END:VEVENT
END:VCALENDAR