BEGIN:VCALENDAR
VERSION:2.0
PRODID:-//eventon.com NONSGML v1.0//EN
CALSCALE:GREGORIAN
METHOD:PUBLISH
BEGIN:VEVENT
UID:69eaf0c2ccd32
DTSTAMP:20260424T042538Z
DTSTART:20190401
DTEND:20190402
LOCATION:Rockhampton Art Gallery 62 Victoria Parade\,  Rockhampton\,  QLD\,  4700
SUMMARY:The Bayton Award 2019: Rockhampton Art Gallery - Rockhampton\,  QLD
DESCRIPTION:The Bayton Award and exhibition highlights the creativity and v
 ariety of artistic endeavour in our region. Drawing on artwork produced ove
 r the last twelve months\,  the exhibition reveals the shared concerns of a
 rtists living in Central Queensland. It is a snapshot of the many ways arti
 sts create and indicates the[..]\nhttps://www.flyingarts.org.au/events/the-
 bayton-award-2019-rockhampton-art-gallery-rockhampton-qld/
URL:https://www.flyingarts.org.au/events/the-bayton-award-2019-rockhampton-art-gallery-rockhampton-qld/
END:VEVENT
END:VCALENDAR