BEGIN:VCALENDAR
VERSION:2.0
PRODID:-//eventon.com NONSGML v1.0//EN
CALSCALE:GREGORIAN
METHOD:PUBLISH
BEGIN:VEVENT
UID:69ec95858cb2a
DTSTAMP:20260425T102053Z
DTSTART:20190418
DTEND:20190419
LOCATION:Queensland Queensland
SUMMARY:Queensland Disaster Resilience Fund: Queensland Government
DESCRIPTION:The Queensland Disaster Resilience Fund (QDRF) supports project
 s to strengthen the resilience of Queensland communities and help them bett
 er prepare for disasters. The $38 million QDRF is funded by the Queensland 
 Government and will be delivered over four years. The first funding round o
 f $9.5 million commences in the 2018-19 financial[..]\nhttps://www.flyinga
 rts.org.au/events/queensland-disaster-resilience-fund-queensland-government
 /
URL:https://www.flyingarts.org.au/events/queensland-disaster-resilience-fund-queensland-government/
END:VEVENT
END:VCALENDAR