BEGIN:VCALENDAR
VERSION:2.0
PRODID:-//eventon.com NONSGML v1.0//EN
CALSCALE:GREGORIAN
METHOD:PUBLISH
BEGIN:VEVENT
UID:69eb4b270defb
DTSTAMP:20260424T105119Z
DTSTART:20190318
DTEND:20190319
LOCATION:
SUMMARY:American-Australian Indigenous Arts Grant: American Australian Association
DESCRIPTION:American-Australian Indigenous Arts Grant offers a USD $10\, 00
 0 grant to assist an emerging or early career Indigenous Australian artist 
 in their professional development in the United States. Before you submit a
 n application\,  please ensure you read all the instructions and eligibili
 ty requirements. LEARN MORE\nhttps://www.flyingarts.org.au/events/american-
 australian-indigenous-arts-grant-american-australian-association/
URL:https://www.flyingarts.org.au/events/american-australian-indigenous-arts-grant-american-australian-association/
END:VEVENT
END:VCALENDAR