BEGIN:VCALENDAR
VERSION:2.0
PRODID:-//eventon.com NONSGML v1.0//EN
CALSCALE:GREGORIAN
METHOD:PUBLISH
BEGIN:VEVENT
UID:69eb424ab8362
DTSTAMP:20260424T101330Z
DTSTART:20190711
DTEND:20190712
LOCATION:Rockhampton Art Gallery 62 Victoria Parade\,  Rockhampton\,  QLD\,  4700
SUMMARY:Artbank Roadshow: Rockhampton Art Gallery - Rockhampton\,  QLD
DESCRIPTION:The Artbank Roadshow is a national initiative that seeks to pro
 vide opportunities for unrepresented artists to be seen and potentially acq
 uired for the Artbank Collection. Artbank recognises that there are finite 
 opportunities for artists to be represented by a commercial dealer. Accordi
 ngly\,  The Artbank Roadshow ensures democracy of access for[..]\nhttps://w
 ww.flyingarts.org.au/events/artbank-roadshow-rockhampton-art-gallery-rockha
 mpton-qld/
URL:https://www.flyingarts.org.au/events/artbank-roadshow-rockhampton-art-gallery-rockhampton-qld/
END:VEVENT
END:VCALENDAR