BEGIN:VCALENDAR
VERSION:2.0
PRODID:-//eventon.com NONSGML v1.0//EN
CALSCALE:GREGORIAN
METHOD:PUBLISH
BEGIN:VEVENT
UID:69e8cce2d5b1a
DTSTAMP:20260422T132802Z
DTSTART:20190219
DTEND:20190220
LOCATION:Brisbane
SUMMARY:Principal Project Officer - Critical Infrastructure: Arts Queensland - Brisbane\,  QLD
DESCRIPTION:Join Arts Queensland in a key project management role within th
 e Critical Infrastructure Works Program\,  Arts Property and Facilities dur
 ing the delivery of a range of exciting government initiatives. This role c
 oordinates all aspects of project delivery including initial planning\,  de
 sign\,  construction and commissioning of multiple complex projects ranging
  in[..]\nhttps://www.flyingarts.org.au/events/principal-project-officer-cri
 tical-infrastructure-arts-queensland-brisbane-qld/
URL:https://www.flyingarts.org.au/events/principal-project-officer-critical-infrastructure-arts-queensland-brisbane-qld/
END:VEVENT
END:VCALENDAR