BEGIN:VCALENDAR
VERSION:2.0
PRODID:-//eventon.com NONSGML v1.0//EN
CALSCALE:GREGORIAN
METHOD:PUBLISH
BEGIN:VEVENT
UID:69eb714aea7b7
DTSTAMP:20260424T133402Z
DTSTART:20190220T180000Z
DTEND:20190220T200000Z
LOCATION:Port Kennedy Hall 66 Douglas Street\,  Thursday Island QLD 4875
SUMMARY:Indigenous Consultation forum for 10-year Roadmap: Arts QLD - Thursday Island\,  QLD
DESCRIPTION:Arts Queensland is seeking to engage Aboriginal and Torres Stra
 it Islander peoples as part of the Queensland Government’s consultation o
 n the development of a 10-year Roadmap for the arts\,  culture and creative
  sector. In this consultation session\,  Arts Queensland will seek to explo
 re further opportunities to celebrate Queensland’s Aboriginal and[..]\nht
 tps://www.flyingarts.org.au/events/indigenous-consultation-forum-for-10-yea
 r-roadmap-thursday-island/
URL:https://www.flyingarts.org.au/events/indigenous-consultation-forum-for-10-year-roadmap-thursday-island/
END:VEVENT
END:VCALENDAR