BEGIN:VCALENDAR
VERSION:2.0
PRODID:-//eventon.com NONSGML v1.0//EN
CALSCALE:GREGORIAN
METHOD:PUBLISH
BEGIN:VEVENT
UID:69e8a38dca497
DTSTAMP:20260422T103141Z
DTSTART:20190211T180000Z
DTEND:20190211T200000Z
LOCATION:Judith Wright Centre of Contemporary Arts 420 Brunswick Street\,  Fortitude Valley\,  QLD\,  4006
SUMMARY:Indigenous Consultation forum for 10-year Roadmap - Brisbane
DESCRIPTION:Arts Queensland is seeking to engage Aboriginal and Torres Stra
 it Islander peoples as part of the Queensland Government’s consultation o
 n the development of a 10-year Roadmap for the arts\,  culture and creative
  sector. In this consultation session\,  Arts Queensland will seek to explo
 re further opportunities to celebrate Queensland’s Aboriginal and[..]\nht
 tps://www.flyingarts.org.au/events/indigenous-consultation-forum-for-10-yea
 r-roadmap-brisbane/
URL:https://www.flyingarts.org.au/events/indigenous-consultation-forum-for-10-year-roadmap-brisbane/
END:VEVENT
END:VCALENDAR