BEGIN:VCALENDAR
VERSION:2.0
PRODID:-//eventon.com NONSGML v1.0//EN
CALSCALE:GREGORIAN
METHOD:PUBLISH
BEGIN:VEVENT
UID:69ec9c9158298
DTSTAMP:20260425T105057Z
DTSTART:20190701
DTEND:20190702
LOCATION:Australia Australia
SUMMARY:Ceramic Break Sculpture Park Triennial Acquisitive Sculpture Prize
DESCRIPTION:The prize is open to all sculptors working in any medium and en
 tries are now invited for the 2019 award. The winning sculpture will form p
 art of the permanent display at Ceramic Break Sculpture Park. The park open
 ed in 2003 and has over 30 sculptures on display throughout the 3[..]\nhttp
 s://www.flyingarts.org.au/events/ceramic-break-sculpture-park-triennial-acq
 uisitive-sculpture-prize/
URL:https://www.flyingarts.org.au/events/ceramic-break-sculpture-park-triennial-acquisitive-sculpture-prize/
END:VEVENT
END:VCALENDAR