BEGIN:VCALENDAR
VERSION:2.0
PRODID:-//eventon.com NONSGML v1.0//EN
CALSCALE:GREGORIAN
METHOD:PUBLISH
BEGIN:VEVENT
UID:69ed3bbd2ecf2
DTSTAMP:20260425T221005Z
DTSTART:20190218
DTEND:20190219
LOCATION:Australia Australia
SUMMARY:Assistant Curator\,  QUT Precincts Operations\,  Division of International: Queensland University of Technology
DESCRIPTION:The Assistant Curator assists the Senior Curator to develop and
  deliver the exhibition program at QUT Art Museum and the William Robinson 
 Gallery. QUT is a leading Australian university based in Brisbane. It has a
  well deserved reputation as a &#8216;university for the real world&#8217; 
 because of its close links[..]\nhttps://www.flyingarts.org.au/events/assist
 ant-curator-qut-precincts-operations-division-of-international-queensland-u
 niversity-of-technology/
URL:https://www.flyingarts.org.au/events/assistant-curator-qut-precincts-operations-division-of-international-queensland-university-of-technology/
END:VEVENT
END:VCALENDAR