BEGIN:VCALENDAR
VERSION:2.0
PRODID:-//eventon.com NONSGML v1.0//EN
CALSCALE:GREGORIAN
METHOD:PUBLISH
BEGIN:VEVENT
UID:69eae7c70690f
DTSTAMP:20260424T034719Z
DTSTART:20190222
DTEND:20190223
LOCATION:Australia Australia
SUMMARY:2019 Artist in Residence Program: Grafton Regional Gallery
DESCRIPTION:The Grafton Regional Gallery is calling for expressions of inte
 rest for Artist in Residence applications for the 2019 program. The program
  is aimed at emerging and established artists who are developing a career i
 n the arts and is supported with funding from Create NSW. Applicants are as
 ked to provide details[..]\nhttps://www.flyingarts.org.au/events/2019-artis
 t-in-residence-program-grafton-regional-gallery/
URL:https://www.flyingarts.org.au/events/2019-artist-in-residence-program-grafton-regional-gallery/
END:VEVENT
END:VCALENDAR