BEGIN:VCALENDAR
VERSION:2.0
PRODID:-//eventon.com NONSGML v1.0//EN
CALSCALE:GREGORIAN
METHOD:PUBLISH
BEGIN:VEVENT
UID:69eb424ab81f9
DTSTAMP:20260424T101330Z
DTSTART:20190215
DTEND:20190216
LOCATION:Australia Australia
SUMMARY:Marketing and Communications Lead: Museum of Brisbane
DESCRIPTION:The Marketing and Communications Lead is an essential part of t
 he small Marketing and Partnerships Team\,  supporting the development and 
 implementation of marketing and communication campaigns and content develop
 ment for major events and exhibitions to drive visitation and build a loyal
  audience of visitors and supporters. The ideal candidate is[..]\nhttps://w
 ww.flyingarts.org.au/events/marketing-and-communications-lead-museum-of-bri
 sbane/
URL:https://www.flyingarts.org.au/events/marketing-and-communications-lead-museum-of-brisbane/
END:VEVENT
END:VCALENDAR