BEGIN:VCALENDAR
VERSION:2.0
PRODID:-//eventon.com NONSGML v1.0//EN
CALSCALE:GREGORIAN
METHOD:PUBLISH
BEGIN:VEVENT
UID:69e75958dd280
DTSTAMP:20260421T110248Z
DTSTART:20190211
DTEND:20190212
LOCATION:Australia Australia
SUMMARY:Galleries Marketing and Communications Officer: Noosa Council
DESCRIPTION:The successful applicant will provide marketing and promotional
  support to the Noosa Regional Gallery\,  assisting to position it as a sig
 nificant regional attraction and a valued community asset. Further the incu
 mbent will contribute to audience development via direct and targeted engag
 ement and contribute to the planning and regular review of[..]\nhttps://www
 .flyingarts.org.au/events/galleries-marketing-and-communications-officer-no
 osa-council/
URL:https://www.flyingarts.org.au/events/galleries-marketing-and-communications-officer-noosa-council/
END:VEVENT
END:VCALENDAR