BEGIN:VCALENDAR
VERSION:2.0
PRODID:-//eventon.com NONSGML v1.0//EN
CALSCALE:GREGORIAN
METHOD:PUBLISH
BEGIN:VEVENT
UID:69e69b40aef37
DTSTAMP:20260420T213144Z
DTSTART:20190613T080000Z
DTEND:20190731T150000Z
LOCATION:Yarrabah Arts and Cultural Centre Yarrabah QLD 4871
SUMMARY:Jabu Birriny (land + sea) - Yarrabah
DESCRIPTION:Jabu Birriny\,  meaning ‘land’ and ‘sea’\,  celebrates 
 the unique environment of Yarrabah and its ongoing importance to culture an
 d people. Located on the shore of Cape Grafton FNQ\,  Yarrabah is the tradi
 tional Country of the Gunggandji people. It is a dynamic Aboriginal communi
 ty surrounded by tropical native bushland and mountain[..]\nhttps://www.fly
 ingarts.org.au/events/jabu-birriny-land-sea-yarrabah/
URL:https://www.flyingarts.org.au/events/jabu-birriny-land-sea-yarrabah/
END:VEVENT
END:VCALENDAR