BEGIN:VCALENDAR
VERSION:2.0
PRODID:-//eventon.com NONSGML v1.0//EN
CALSCALE:GREGORIAN
METHOD:PUBLISH
BEGIN:VEVENT
UID:69e88bbfd67e1
DTSTAMP:20260422T085007Z
DTSTART:20190727T080000Z
DTEND:20190908T160000Z
LOCATION:Waltzing Matilda Centre 50 Elderslie Street\,  Winton QLD 4735
SUMMARY:Wanderlust - Winton
DESCRIPTION:From dirt roads to rock pools\,  luscious rainforests to local 
 festivals\,  Queensland is a state that inspires exploration. It’s full o
 f diverse personalities\,  local legends and hidden gems valued by tourists
  and locals alike. Regional Queensland artists embraced a spirit of adventu
 re to discover unique elements from communities around the[..]\nhttps://www
 .flyingarts.org.au/events/wanderlust-winton/
URL:https://www.flyingarts.org.au/events/wanderlust-winton/
END:VEVENT
END:VCALENDAR