BEGIN:VCALENDAR
VERSION:2.0
PRODID:-//eventon.com NONSGML v1.0//EN
CALSCALE:GREGORIAN
METHOD:PUBLISH
BEGIN:VEVENT
UID:69e89f59ce629
DTSTAMP:20260422T101345Z
DTSTART:20190225
DTEND:20190226
LOCATION:Brisbane
SUMMARY:Queensland Reconciliation Awards: Queensland Government - Brisbane\,  QLD
DESCRIPTION:Nominations are now open for the 2019 Queensland Reconciliation
  Awards. The Queensland Reconciliation Awards recognises initiatives undert
 aken by businesses\,  community organisations\,  educational institutions a
 nd government departments going above and beyond their core business to fos
 ter reconciliation and pave the way for a better future for our state. LEAR
 N MORE\nhttps://www.flyingarts.org.au/events/queensland-reconciliation-awar
 ds-queensland-government-brisbane-qld/
URL:https://www.flyingarts.org.au/events/queensland-reconciliation-awards-queensland-government-brisbane-qld/
END:VEVENT
END:VCALENDAR