BEGIN:VCALENDAR
VERSION:2.0
PRODID:-//eventon.com NONSGML v1.0//EN
CALSCALE:GREGORIAN
METHOD:PUBLISH
BEGIN:VEVENT
UID:69e756db109ad
DTSTAMP:20260421T105211Z
DTSTART:20190822T110000Z
DTEND:20190822T120000Z
LOCATION:Your computer
SUMMARY:How To: Get Paid as a Professional Artist
DESCRIPTION:This webinar explores the best practice standards for professio
 nal artists for fees and payment methods. Underscored by the Code of Practi
 ce of the National Association of Visual Arts (NAVA)\,  it covers artist fe
 es for exhibitions\,  workshops\,  events and lectures\,  and explains the 
 considerations in determining individual rates across the levels[..]\nhttps
 ://www.flyingarts.org.au/events/how-to-get-paid-as-a-professional-artist/
URL:https://www.flyingarts.org.au/events/how-to-get-paid-as-a-professional-artist/
END:VEVENT
END:VCALENDAR